BEGIN:VCALENDAR
VERSION:2.0
PRODID:-//Mt. Pleasant Animal Shelter - ECPv6.15.17.1//NONSGML v1.0//EN
CALSCALE:GREGORIAN
METHOD:PUBLISH
X-ORIGINAL-URL:https://njshelter.org
X-WR-CALDESC:Events for Mt. Pleasant Animal Shelter
REFRESH-INTERVAL;VALUE=DURATION:PT1H
X-Robots-Tag:noindex
X-PUBLISHED-TTL:PT1H
BEGIN:VTIMEZONE
TZID:UTC
BEGIN:STANDARD
TZOFFSETFROM:+0000
TZOFFSETTO:+0000
TZNAME:UTC
DTSTART:20230101T000000
END:STANDARD
END:VTIMEZONE
BEGIN:VEVENT
DTSTART;TZID=UTC:20240118T180000
DTEND;TZID=UTC:20240118T200000
DTSTAMP:20260419T161859
CREATED:20231220T184431Z
LAST-MODIFIED:20231220T184603Z
UID:16214-1705600800-1705608000@njshelter.org
SUMMARY:Sip and Paint
DESCRIPTION:Join us with friends and family for a Sip and Paint to benefit Mt. Pleasant Animal Shelter. \nThursday\, January 18th\, 2023 \n6:00 pm to 8:00 pm \nHosted by Painting With A Twist \n440 Main Rd\, Montville\, NJ \nA talented instructor will show us how to paint this beautiful moonlit scene! Mt. Pleasant Animal Shelter will provide non-alcoholic refreshments and snacks. This event is also BYOW (Bring Your Own Wine.) Cups are provided. \nClick here to reserve your spot
URL:https://njshelter.org/event/sip-and-paint/
LOCATION:Painting With a Twist\, 440 Main Rd\, Montville\, NJ\, 07082\, United States
CATEGORIES:MPAS Events
ATTACH;FMTTYPE=image/png:https://njshelter.org/wp-content/uploads/2023/12/Untitled-design-7.png
END:VEVENT
END:VCALENDAR